BEGIN:VCALENDAR
VERSION:2.0
PRODID:-//DCTA - Downeast Community Tennis Association - ECPv6.15.20//NONSGML v1.0//EN
CALSCALE:GREGORIAN
METHOD:PUBLISH
X-WR-CALNAME:DCTA - Downeast Community Tennis Association
X-ORIGINAL-URL:https://dctanc.com
X-WR-CALDESC:Events for DCTA - Downeast Community Tennis Association
REFRESH-INTERVAL;VALUE=DURATION:PT1H
X-Robots-Tag:noindex
X-PUBLISHED-TTL:PT1H
BEGIN:VTIMEZONE
TZID:America/New_York
BEGIN:DAYLIGHT
TZOFFSETFROM:-0500
TZOFFSETTO:-0400
TZNAME:EDT
DTSTART:20210314T070000
END:DAYLIGHT
BEGIN:STANDARD
TZOFFSETFROM:-0400
TZOFFSETTO:-0500
TZNAME:EST
DTSTART:20211107T060000
END:STANDARD
BEGIN:DAYLIGHT
TZOFFSETFROM:-0500
TZOFFSETTO:-0400
TZNAME:EDT
DTSTART:20220313T070000
END:DAYLIGHT
BEGIN:STANDARD
TZOFFSETFROM:-0400
TZOFFSETTO:-0500
TZNAME:EST
DTSTART:20221106T060000
END:STANDARD
BEGIN:DAYLIGHT
TZOFFSETFROM:-0500
TZOFFSETTO:-0400
TZNAME:EDT
DTSTART:20230312T070000
END:DAYLIGHT
BEGIN:STANDARD
TZOFFSETFROM:-0400
TZOFFSETTO:-0500
TZNAME:EST
DTSTART:20231105T060000
END:STANDARD
BEGIN:DAYLIGHT
TZOFFSETFROM:-0500
TZOFFSETTO:-0400
TZNAME:EDT
DTSTART:20240310T070000
END:DAYLIGHT
BEGIN:STANDARD
TZOFFSETFROM:-0400
TZOFFSETTO:-0500
TZNAME:EST
DTSTART:20241103T060000
END:STANDARD
BEGIN:DAYLIGHT
TZOFFSETFROM:-0500
TZOFFSETTO:-0400
TZNAME:EDT
DTSTART:20250309T070000
END:DAYLIGHT
BEGIN:STANDARD
TZOFFSETFROM:-0400
TZOFFSETTO:-0500
TZNAME:EST
DTSTART:20251102T060000
END:STANDARD
BEGIN:DAYLIGHT
TZOFFSETFROM:-0500
TZOFFSETTO:-0400
TZNAME:EDT
DTSTART:20260308T070000
END:DAYLIGHT
BEGIN:STANDARD
TZOFFSETFROM:-0400
TZOFFSETTO:-0500
TZNAME:EST
DTSTART:20261101T060000
END:STANDARD
END:VTIMEZONE
BEGIN:VEVENT
DTSTART;VALUE=DATE:20250524
DTEND;VALUE=DATE:20250526
DTSTAMP:20260420T032441
CREATED:20250225T144811Z
LAST-MODIFIED:20250225T144811Z
UID:715-1748044800-1748217599@dctanc.com
SUMMARY:Level 6: Greenville Open
DESCRIPTION:River Birch Tennis Center\n625 W Arlington Blvd.\nGreenville\, NC\, 27834 \nCome join us for this stop along the Tarheel Trail to Nationals! Players can play to earn points to go to NTRP Nationals or to be rewarded with some great incentives! Check out our web page here for more details. Any questions on the Tarheel Trail can be directed to nick@nctennis.com \nTD Contact Information:\nMontana Wiggs – Mwiggs@greenvillenc.gov\n252 329 4559 \nDoubles Registration Instructions: Click here \nDraw Limits:\n16 players in singles\, 8 teams in doubles \nSelection Criteria:\nFirst come first serve \nDraw Format:\nFICQ or Round robin based on division size \nScoring Format:\n2 out of 3 tiebreak sets to 6\, 7 pt tiebreaker at 6 games all\, 10pt tiebreak in lieu of 3rd set \nPlayer Amenities:\nClubhouse w/ deck\nPro shop w/ basic tennis accessories\nStringing on-site\nIndoor & Outdoor bathrooms\nLocker room w/ showers
URL:https://dctanc.com/event/level-6-greenville-open/
LOCATION:River Birch Tennis Center\, 625 W Arlington Blvd.\, Greenville\, NC\, 27834
END:VEVENT
BEGIN:VEVENT
DTSTART;TZID=America/New_York:20250324T180000
DTEND;TZID=America/New_York:20250324T200000
DTSTAMP:20260420T032441
CREATED:20250318T123942Z
LAST-MODIFIED:20250318T123942Z
UID:733-1742839200-1742846400@dctanc.com
SUMMARY:Young Professionals Tennis Social
DESCRIPTION:
URL:https://dctanc.com/event/young-professionals-tennis-social/
LOCATION:Baywood Racquet Club
END:VEVENT
BEGIN:VEVENT
DTSTART;VALUE=DATE:20250308
DTEND;VALUE=DATE:20250309
DTSTAMP:20260420T032441
CREATED:20250225T144325Z
LAST-MODIFIED:20250225T144325Z
UID:713-1741392000-1741478399@dctanc.com
SUMMARY:Level 7: Greenville Spring Kickoff
DESCRIPTION:River Birch Tennis Center\n625 W Arlington Blvd.\nGreenville\, NC\, 27834 \nCome join us for this stop along the Tarheel Trail to Nationals! Players can play to earn points to go to NTRP Nationals or to be rewarded with some great incentives! Check out our web page here for more details. Any questions on the Tarheel Trail can be directed to nick@nctennis.com \nTD Contact Information:\nMontana Wiggs – Mwiggs@greenvillenc.gov\n252 329 4559 \nDoubles Registration Instructions: Click here \nDraw Limits:\n16 players\, 8 teams/ division \nSelection Criteria:\nFirst come first serve \nDraw Format:\nCompass(7+) or Round Robin(6 or less) – dependent on number of teams in divison \nScoring Format:\nOne pro set to 6 games\, 7pt match tiebreaker at 6 games all\, no-ad \nPlayer Amenities:\nClubhouse w/ deck\nPro shop w/ basic tennis accessories\nStringing on-site\nIndoor & Outdoor bathrooms\nLocker room w/ showers
URL:https://dctanc.com/event/level-7-greenville-spring-kickoff/
LOCATION:River Birch Tennis Center\, 625 W Arlington Blvd.\, Greenville\, NC\, 27834
END:VEVENT
BEGIN:VEVENT
DTSTART;TZID=America/New_York:20250222T100000
DTEND;TZID=America/New_York:20250222T120000
DTSTAMP:20260420T032441
CREATED:20250128T195510Z
LAST-MODIFIED:20250128T195622Z
UID:701-1740218400-1740225600@dctanc.com
SUMMARY:Will L. Martin Spring League Kickoff Clinic
DESCRIPTION:Join us for free tennis instruction and drills from area tennis pros. Register online today at https://shorturl.at/gnZNj.
URL:https://dctanc.com/event/will-l-martin-spring-league-kickoff-clinic/
LOCATION:River Birch Tennis Center\, 625 W Arlington Blvd.\, Greenville\, NC\, 27834
END:VEVENT
BEGIN:VEVENT
DTSTART;TZID=America/New_York:20241114T180000
DTEND;TZID=America/New_York:20241114T210000
DTSTAMP:20260420T032441
CREATED:20241028T151834Z
LAST-MODIFIED:20241028T151834Z
UID:610-1731607200-1731618000@dctanc.com
SUMMARY:Young Professional Tennis Round Robin
DESCRIPTION:
URL:https://dctanc.com/event/young-professional-tennis-round-robin/
LOCATION:River Birch Tennis Center\, 625 W Arlington Blvd.\, Greenville\, NC\, 27834
END:VEVENT
BEGIN:VEVENT
DTSTART;VALUE=DATE:20241102
DTEND;VALUE=DATE:20241103
DTSTAMP:20260420T032441
CREATED:20241009T125928Z
LAST-MODIFIED:20241009T125928Z
UID:594-1730505600-1730591999@dctanc.com
SUMMARY:Level 7: River Birch Fall Frenzy
DESCRIPTION:
URL:https://dctanc.com/event/level-7-river-birch-fall-frenzy/
LOCATION:River Birch Tennis Center\, 625 W Arlington Blvd.\, Greenville\, NC\, 27834
END:VEVENT
BEGIN:VEVENT
DTSTART;TZID=America/New_York:20220617T080000
DTEND;TZID=America/New_York:20220617T170000
DTSTAMP:20260420T032441
CREATED:20220420T162958Z
LAST-MODIFIED:20220420T163127Z
UID:429-1655452800-1655485200@dctanc.com
SUMMARY:State Junior Championship
DESCRIPTION:River Birch\, Evans Park\, Rose High School\, Elm Street Park\, Greenville Country Club and South Central High School
URL:https://dctanc.com/event/state-junior-championship/
LOCATION:NC
END:VEVENT
BEGIN:VEVENT
DTSTART;TZID=America/New_York:20220513T080000
DTEND;TZID=America/New_York:20220515T170000
DTSTAMP:20260420T032441
CREATED:20220420T162909Z
LAST-MODIFIED:20220420T163150Z
UID:427-1652428800-1652634000@dctanc.com
SUMMARY:65's STATE CHAMPIONSHIP
DESCRIPTION:
URL:https://dctanc.com/event/65s-state-championship/
LOCATION:NC
END:VEVENT
END:VCALENDAR