BEGIN:VCALENDAR
VERSION:2.0
PRODID:-//DCTA - Downeast Community Tennis Association - ECPv6.15.20//NONSGML v1.0//EN
CALSCALE:GREGORIAN
METHOD:PUBLISH
X-ORIGINAL-URL:https://dctanc.com
X-WR-CALDESC:Events for DCTA - Downeast Community Tennis Association
REFRESH-INTERVAL;VALUE=DURATION:PT1H
X-Robots-Tag:noindex
X-PUBLISHED-TTL:PT1H
BEGIN:VTIMEZONE
TZID:America/New_York
BEGIN:DAYLIGHT
TZOFFSETFROM:-0500
TZOFFSETTO:-0400
TZNAME:EDT
DTSTART:20250309T070000
END:DAYLIGHT
BEGIN:STANDARD
TZOFFSETFROM:-0400
TZOFFSETTO:-0500
TZNAME:EST
DTSTART:20251102T060000
END:STANDARD
BEGIN:DAYLIGHT
TZOFFSETFROM:-0500
TZOFFSETTO:-0400
TZNAME:EDT
DTSTART:20260308T070000
END:DAYLIGHT
BEGIN:STANDARD
TZOFFSETFROM:-0400
TZOFFSETTO:-0500
TZNAME:EST
DTSTART:20261101T060000
END:STANDARD
BEGIN:DAYLIGHT
TZOFFSETFROM:-0500
TZOFFSETTO:-0400
TZNAME:EDT
DTSTART:20270314T070000
END:DAYLIGHT
BEGIN:STANDARD
TZOFFSETFROM:-0400
TZOFFSETTO:-0500
TZNAME:EST
DTSTART:20271107T060000
END:STANDARD
END:VTIMEZONE
BEGIN:VEVENT
DTSTART;VALUE=DATE:20260821
DTEND;VALUE=DATE:20260824
DTSTAMP:20260420T014930
CREATED:20260213T214821Z
LAST-MODIFIED:20260213T214950Z
UID:775-1787270400-1787529599@dctanc.com
SUMMARY:Level 4 Open: 44th Annual Snow Hill / Lenoir community College Tennis Classic
DESCRIPTION:
URL:https://dctanc.com/event/level-4-open-44th-annual-snow-hill-lenoir-community-college-tennis-classic/
LOCATION:Greene Ridge Racquet Club\, 609 Kingold Blvd\, Snow Hill\, NC\, 28580\, United States
END:VEVENT
END:VCALENDAR