BEGIN:VCALENDAR
VERSION:2.0
PRODID:-//DCTA - Downeast Community Tennis Association - ECPv6.15.20//NONSGML v1.0//EN
CALSCALE:GREGORIAN
METHOD:PUBLISH
X-WR-CALNAME:DCTA - Downeast Community Tennis Association
X-ORIGINAL-URL:https://dctanc.com
X-WR-CALDESC:Events for DCTA - Downeast Community Tennis Association
REFRESH-INTERVAL;VALUE=DURATION:PT1H
X-Robots-Tag:noindex
X-PUBLISHED-TTL:PT1H
BEGIN:VTIMEZONE
TZID:America/New_York
BEGIN:DAYLIGHT
TZOFFSETFROM:-0500
TZOFFSETTO:-0400
TZNAME:EDT
DTSTART:20210314T070000
END:DAYLIGHT
BEGIN:STANDARD
TZOFFSETFROM:-0400
TZOFFSETTO:-0500
TZNAME:EST
DTSTART:20211107T060000
END:STANDARD
BEGIN:DAYLIGHT
TZOFFSETFROM:-0500
TZOFFSETTO:-0400
TZNAME:EDT
DTSTART:20220313T070000
END:DAYLIGHT
BEGIN:STANDARD
TZOFFSETFROM:-0400
TZOFFSETTO:-0500
TZNAME:EST
DTSTART:20221106T060000
END:STANDARD
BEGIN:DAYLIGHT
TZOFFSETFROM:-0500
TZOFFSETTO:-0400
TZNAME:EDT
DTSTART:20230312T070000
END:DAYLIGHT
BEGIN:STANDARD
TZOFFSETFROM:-0400
TZOFFSETTO:-0500
TZNAME:EST
DTSTART:20231105T060000
END:STANDARD
END:VTIMEZONE
BEGIN:VEVENT
DTSTART;TZID=America/New_York:20220513T080000
DTEND;TZID=America/New_York:20220515T170000
DTSTAMP:20260420T032619
CREATED:20220420T162909Z
LAST-MODIFIED:20220420T163150Z
UID:427-1652428800-1652634000@dctanc.com
SUMMARY:65's STATE CHAMPIONSHIP
DESCRIPTION:
URL:https://dctanc.com/event/65s-state-championship/
END:VEVENT
END:VCALENDAR