BEGIN:VCALENDAR
VERSION:2.0
PRODID:-//DCTA - Downeast Community Tennis Association - ECPv6.15.20//NONSGML v1.0//EN
CALSCALE:GREGORIAN
METHOD:PUBLISH
X-ORIGINAL-URL:https://dctanc.com
X-WR-CALDESC:Events for DCTA - Downeast Community Tennis Association
REFRESH-INTERVAL;VALUE=DURATION:PT1H
X-Robots-Tag:noindex
X-PUBLISHED-TTL:PT1H
BEGIN:VTIMEZONE
TZID:America/New_York
BEGIN:DAYLIGHT
TZOFFSETFROM:-0500
TZOFFSETTO:-0400
TZNAME:EDT
DTSTART:20250309T070000
END:DAYLIGHT
BEGIN:STANDARD
TZOFFSETFROM:-0400
TZOFFSETTO:-0500
TZNAME:EST
DTSTART:20251102T060000
END:STANDARD
BEGIN:DAYLIGHT
TZOFFSETFROM:-0500
TZOFFSETTO:-0400
TZNAME:EDT
DTSTART:20260308T070000
END:DAYLIGHT
BEGIN:STANDARD
TZOFFSETFROM:-0400
TZOFFSETTO:-0500
TZNAME:EST
DTSTART:20261101T060000
END:STANDARD
BEGIN:DAYLIGHT
TZOFFSETFROM:-0500
TZOFFSETTO:-0400
TZNAME:EDT
DTSTART:20270314T070000
END:DAYLIGHT
BEGIN:STANDARD
TZOFFSETFROM:-0400
TZOFFSETTO:-0500
TZNAME:EST
DTSTART:20271107T060000
END:STANDARD
END:VTIMEZONE
BEGIN:VEVENT
DTSTART;TZID=America/New_York:20260221T100000
DTEND;TZID=America/New_York:20260221T120000
DTSTAMP:20260419T200442
CREATED:20260213T210208Z
LAST-MODIFIED:20260213T210208Z
UID:761-1771668000-1771675200@dctanc.com
SUMMARY:Spring League Kickoff Clinic & Round Robin
DESCRIPTION:
URL:https://dctanc.com/event/spring-league-kickoff-clinic-round-robin/
LOCATION:River Birch Tennis Center\, 625 W Arlington Blvd.\, Greenville\, NC\, 27834
END:VEVENT
BEGIN:VEVENT
DTSTART;VALUE=DATE:20260227
DTEND;VALUE=DATE:20260302
DTSTAMP:20260419T200442
CREATED:20260213T212252Z
LAST-MODIFIED:20260213T212252Z
UID:764-1772150400-1772409599@dctanc.com
SUMMARY:Neuse River Tri-Level League
DESCRIPTION:Greene Ridge Racquet Club will host the Neuse River Tri-Level League using a tournament style the weekend of February 27-March 1.  Anyone in the state is welcome to put together a team and participate in the event!  Please see the details below. \nRegister online for the NEUSE LEAGUE\nDeadline to Register: Feb 22nd\, 2026 \nDIVISIONS OF … 18 & up\, 40 & up\, & 55 & up \nWOMEN’S TEAM LEVEL of PLAY\n2.5/3.0/3.5    3.0/3.5/4.0    3.5/4.0/4.5 \nMEN’S TEAM LEVEL of PLAY\n3.0/3.5/4.0    3.5/4.0/4.5 \nPlay will consist of a doubles team of each level. You only need 2 players of each NTRP level in order to have a team. *We will try and help you get players if you are short one or two at certain levels \nFINISH ENTIRE SEASON IN (1) WEEKEND……GREAT FORMAT \n*We have never used the Friday before the weekend\, but if there are a GREAT number of teams that sign up\, then we may play one round at 6-630pm on Friday.  If there is a draw of 5 or more\, then we would most likely use Friday \n*Depending on registrations\, alternate scoring formats may be used to get all matches played during the weekend. The winner of the weekend will be eligible to participate as the Neuse Representative at the State Tournament held in Raleigh in late September. \nRound Robin STATE TOURNAMENT format – (4) matches for all teams \nBalls & Snacks will be provided! \nThis event is open to anyone that is 18 years old and has a USTA membership. \n*When you register your team on-line\, you can list Greene Ridge as your home site\, being that the entire event will be held at this location \nFOR MORE INFO CALL Samantha 252-526-7799 or samanthahaislip@gmail.com\nBobby at 252-526-2970 or bobby@greeneridgerc.com
URL:https://dctanc.com/event/neuse-river-tri-level-league/
LOCATION:Greene Ridge Racquet Club\, 609 Kingold Blvd\, Snow Hill\, NC\, 28580\, United States
END:VEVENT
END:VCALENDAR